View In:
ArcGIS JavaScript
ArcGIS Online Map Viewer
ArcGIS Earth
Service Description: A Normalized Difference Vegetation Index (NDVI) was applied to the source NAIP 2016 imagery. NDVI=(NearIR-Red)/(NearIR+Red). The color ramp (produced by ESRI) goes from brown (less healthy vegetation) to red to green (healthier vegetation or more "greenness").
Name: Base_Remote_Sensing/NAIP_2016_NDVI
Description: A Normalized Difference Vegetation Index (NDVI) was applied to the source NAIP 2016 imagery. NDVI=(NearIR-Red)/(NearIR+Red). The color ramp (produced by ESRI) goes from brown (less healthy vegetation) to red to green (healthier vegetation or more "greenness").
Single Fused Map Cache: false
Extent:
XMin: -1.3852671545E7
YMin: 3828927.2682
XMax: -1.2703906745E7
YMax: 5170664.0682
Spatial Reference: 102100
(3857)
Initial Extent:
XMin: -1.3852671545E7
YMin: 3828927.2682
XMax: -1.2703906745E7
YMax: 5170664.0682
Spatial Reference: 102100
(3857)
Full Extent:
XMin: -1.3852671545E7
YMin: 3828927.2682
XMax: -1.2703906745E7
YMax: 5170664.0682
Spatial Reference: 102100
(3857)
Pixel Size X: 0.6000000000000004
Pixel Size Y: 0.5999999999999999
Band Count: 3
Pixel Type: U8
RasterFunction Infos: {"rasterFunctionInfos": [{
"help": "",
"name": "None",
"description": "A No-Op Function."
}]}
Mensuration Capabilities: None,Basic
Inspection Capabilities:
Has Histograms: false
Has Colormap: false
Has Multi Dimensions : false
Rendering Rule:
Min Scale: 0
Max Scale: 0
Copyright Text:
Service Data Type: esriImageServiceDataTypeThematic
Min Values: N/A
Max Values: N/A
Mean Values: N/A
Standard Deviation Values: N/A
Object ID Field: OBJECTID
Fields:
-
OBJECTID
(
alias: OBJECTID, type: esriFieldTypeOID
)
-
Shape
(
alias: Shape, type: esriFieldTypeGeometry
)
-
Name
(
length: 50, alias: Name, type: esriFieldTypeString
)
-
MinPS
(
alias: MinPS, type: esriFieldTypeDouble
)
-
MaxPS
(
alias: MaxPS, type: esriFieldTypeDouble
)
-
LowPS
(
alias: LowPS, type: esriFieldTypeDouble
)
-
HighPS
(
alias: HighPS, type: esriFieldTypeDouble
)
-
Category
(
alias: Category, type: esriFieldTypeInteger
, Coded Values:
[0: Unknown]
, [1: Primary]
, [2: Overview]
, ...5 more...
)
-
Tag
(
length: 20, alias: Tag, type: esriFieldTypeString
)
-
GroupName
(
length: 50, alias: GroupName, type: esriFieldTypeString
)
-
ProductName
(
length: 50, alias: ProductName, type: esriFieldTypeString
)
-
CenterX
(
alias: CenterX, type: esriFieldTypeDouble
)
-
CenterY
(
alias: CenterY, type: esriFieldTypeDouble
)
-
ZOrder
(
alias: ZOrder, type: esriFieldTypeInteger
)
-
Shape_Length
(
alias: Shape_Length, type: esriFieldTypeDouble
)
-
Shape_Area
(
alias: Shape_Area, type: esriFieldTypeDouble
)
Default Mosaic Method: Northwest
Allowed Mosaic Methods: NorthWest,Center,LockRaster,ByAttribute,Nadir,Viewpoint,Seamline,None
SortField:
SortValue: N/A
Mosaic Operator: First
Default Compression Quality: 75
Default Resampling Method: Bilinear
Max Record Count: 1000
Max Image Height: 4100
Max Image Width: 15000
Max Download Image Count: 20
Max Mosaic Image Count: 20
Allow Raster Function: true
Allow Copy: true
Allow Analysis: true
Allow Compute TiePoints: false
Supports Statistics: true
Supports Advanced Queries: true
Use StandardizedQueries: true
Raster Type Infos:
Name: Raster Dataset
Description: Supports all ArcGIS Raster Datasets
Help:
Has Raster Attribute Table: false
Edit Fields Info: N/A
Ownership Based AccessControl For Rasters: N/A
Child Resources:
Info
Statistics
Key Properties
Legend
Raster Function Infos
Supported Operations:
Export Image
Query
Identify
Measure
Compute Histograms
Compute Statistics Histograms
Get Samples
Compute Class Statistics
Query GPS Info
Find Images
Image to Map
Map to Image
Measure from Image
Image to Map Multiray
Query Boundary
Compute Pixel Location
Compute Angles
Validate
Project