{ "extent": { "ymin": 3828927.2681999998, "xmin": -13852671.545, "ymax": 5170664.0681999996, "xmax": -12703906.744999999, "spatialReference": { "latestWkid": 3857, "wkid": 102100 } }, "blockWidth": 2048, "mosaicOperator": "First", "serviceSourceType": "esriImageServiceSourceTypeMosaicDataset", "hasMultidimensions": false, "maxImageWidth": 15000, "maxRecordCount": 1000, "meanValues": [ 111.25897110338748, 111.55803756970674, 101.01403040835248, 131.66824843687914 ], "hasColormap": false, "compressionType": "None", "defaultCompressionQuality": 75, "maxValues": [ 234, 233, 233, 231 ], "hasHistograms": true, "datasetFormat": "AMD", "maxImageHeight": 4100, "sortField": "", "bandNames": [ "Band_1", "Band_2", "Band_3", "Band_4" ], "spatialReference": { "latestWkid": 3857, "wkid": 102100 }, "fullExtent": { "ymin": 3828927.2681999998, "xmin": -13852671.545, "ymax": 5170664.0681999996, "xmax": -12703906.744999999, "spatialReference": { "latestWkid": 3857, "wkid": 102100 } }, "bandCount": 4, "rasterFunctionInfos": [{ "help": "", "name": "None", "description": "A No-Op Function." }], "supportsStatistics": true, "sortableFields": "MinPS,MaxPS,LowPS,HighPS,CenterX,CenterY,ZOrder,Shape_Length,Shape_Area", "minValues": [ 0, 0, 0, 0 ], "allowRasterFunction": true, "allowComputeTiePoints": false, "serviceDataType": "esriImageServiceDataTypeGeneric", "supportsAdvancedQueries": true, "maxDownloadSizeLimit": 2048, "currentVersion": 12.1, "sortValue": null, "objectIdField": "OBJECTID", "blockHeight": 256, "initialExtent": { "ymin": 3828927.2681999998, "xmin": -13852671.545, "ymax": 5170664.0681999996, "xmax": -12703906.744999999, "spatialReference": { "latestWkid": 3857, "wkid": 102100 } }, "pixelSizeX": 0.60000000000000042, "pixelSizeY": 0.59999999999999987, "defaultMosaicMethod": "Northwest", "name": "Base_Remote_Sensing/NAIP_2016_4Band", "allowedMosaicMethods": "NorthWest,Center,LockRaster,ByAttribute,Nadir,Viewpoint,Seamline,None", "maxDownloadImageCount": 20, "fields": [ { "domain": null, "name": "OBJECTID", "alias": "OBJECTID", "type": "esriFieldTypeOID" }, { "domain": null, "name": "Shape", "alias": "Shape", "type": "esriFieldTypeGeometry" }, { "domain": null, "name": "Name", "length": 50, "alias": "Name", "type": "esriFieldTypeString" }, { "domain": null, "name": "MinPS", "alias": "MinPS", "type": "esriFieldTypeDouble" }, { "domain": null, "name": "MaxPS", "alias": "MaxPS", "type": "esriFieldTypeDouble" }, { "domain": null, "name": "LowPS", "alias": "LowPS", "type": "esriFieldTypeDouble" }, { "domain": null, "name": "HighPS", "alias": "HighPS", "type": "esriFieldTypeDouble" }, { "domain": { "splitPolicy": "esriSPTDefaultValue", "name": "MosaicCatalogItemCategoryDomain", "description": "Catalog item categories.", "type": "codedValue", "codedValues": [ { "code": 0, "name": "Unknown" }, { "code": 1, "name": "Primary" }, { "code": 2, "name": "Overview" }, { "code": 3, "name": "Unprocessed Overview" }, { "code": 4, "name": "Partial Overview" }, { "code": 253, "name": "Uploaded" }, { "code": 254, "name": "Incomplete" }, { "code": 255, "name": "Custom" } ], "mergePolicy": "esriMPTDefaultValue" }, "name": "Category", "alias": "Category", "type": "esriFieldTypeInteger" }, { "domain": null, "name": "Tag", "length": 20, "alias": "Tag", "type": "esriFieldTypeString" }, { "domain": null, "name": "GroupName", "length": 50, "alias": "GroupName", "type": "esriFieldTypeString" }, { "domain": null, "name": "ProductName", "length": 50, "alias": "ProductName", "type": "esriFieldTypeString" }, { "domain": null, "name": "CenterX", "alias": "CenterX", "type": "esriFieldTypeDouble" }, { "domain": null, "name": "CenterY", "alias": "CenterY", "type": "esriFieldTypeDouble" }, { "domain": null, "name": "ZOrder", "alias": "ZOrder", "type": "esriFieldTypeInteger" }, { "domain": null, "name": "Shape_Length", "alias": "Shape_Length", "type": "esriFieldTypeDouble" }, { "domain": null, "name": "Shape_Area", "alias": "Shape_Area", "type": "esriFieldTypeDouble" } ], "allowAnalysis": true, "hasRasterAttributeTable": false, "useStandardizedQueries": true, "description": "
This service delivers all 4 bands of the NAIP 2016 aerial imagery and may be slower than other related NAIP 2016 services because of the amount and/or format of data being served. Band1=R, Band2=G, Band3=B, Band4=NearIR.<\/SPAN><\/P><\/DIV><\/DIV>",
"pixelType": "U8",
"meanPixelSize": 0.60000000000000009,
"exportTilesAllowed": false,
"editFieldsInfo": null,
"rasterTypeInfos": [{
"help": "",
"name": "Raster Dataset",
"description": "Supports all ArcGIS Raster Datasets"
}],
"defaultResamplingMethod": "Bilinear",
"itemAccess": false,
"minScale": 0,
"serviceProperties": " This service delivers all 4 bands of the NAIP 2016 aerial imagery and may be slower than other related NAIP 2016 services because of the amount and/or format of data being served. Band1=R, Band2=G, Band3=B, Band4=NearIR.<\/SPAN><\/P><\/DIV><\/DIV>",
"allowCopy": true,
"copyrightText": "",
"mensurationCapabilities": "None,Basic",
"ownershipBasedAccessControlForRasters": null
}